BEGIN:VCALENDAR
VERSION:2.0
PRODID:icalendar-ruby
CALSCALE:GREGORIAN
METHOD:PUBLISH
BEGIN:VEVENT
DTSTAMP:20260421T040953Z
UID:13-875771@glendalewvumc.org
DTSTART:20260902T223000Z
DTEND:20260902T223000Z
CLASS:PUBLIC
CREATED:20260420T210651
DESCRIPTION:
LAST-MODIFIED:20260420T210651
LOCATION:Church Library
SUMMARY:Ladies' Bible Study
URL;VALUE=URI:https://www.glendalewvumc.org/events/ladies-bible-study/2026-
 09-02
ATTACH;FILENAME=patrick-fore-b_SHPU5M3nk-unsplash.jpg;FMTTYPE=image/jpeg:ht
 tps://dq5pwpg1q8ru0.cloudfront.net/2025/04/07/17/35/41/1fd1608a-90ea-4930-
 b418-5e9d426c72ce/patrick-fore-b_SHPU5M3nk-unsplash.jpg
END:VEVENT
END:VCALENDAR
