BEGIN:VCALENDAR
VERSION:2.0
PRODID:icalendar-ruby
CALSCALE:GREGORIAN
METHOD:PUBLISH
BEGIN:VEVENT
DTSTAMP:20260421T042749Z
UID:14-875854@glendalewvumc.org
DTSTART:20260909T131500Z
DTEND:20260909T131500Z
CLASS:PUBLIC
CREATED:20260420T210651
DESCRIPTION:
LAST-MODIFIED:20260420T210651
LOCATION:Church Library
SUMMARY:Prayer Group
URL;VALUE=URI:https://www.glendalewvumc.org/events/prayer-group/2026-09-09
ATTACH;FILENAME=aaron-burden-vKBdY7e7KFk-unsplash.jpg;FMTTYPE=image/jpeg:ht
 tps://dq5pwpg1q8ru0.cloudfront.net/2025/04/07/17/41/34/8be74f4a-3625-4a09-
 8c28-a6649bca88cb/aaron-burden-vKBdY7e7KFk-unsplash.jpg
END:VEVENT
END:VCALENDAR
