BEGIN:VCALENDAR
VERSION:2.0
PRODID:icalendar-ruby
CALSCALE:GREGORIAN
METHOD:PUBLISH
BEGIN:VEVENT
DTSTAMP:20260421T041407Z
UID:8-875597@glendalewvumc.org
DTSTART:20260920T133000Z
DTEND:20260920T143000Z
CLASS:PUBLIC
CREATED:20260420T210650
DESCRIPTION:
LAST-MODIFIED:20260420T210650
LOCATION:Glen Dale UMC
SUMMARY:Sunday School
URL;VALUE=URI:https://www.glendalewvumc.org/events/sunday-school/2026-09-20
END:VEVENT
END:VCALENDAR
