BEGIN:VCALENDAR
VERSION:2.0
PRODID:icalendar-ruby
CALSCALE:GREGORIAN
METHOD:PUBLISH
BEGIN:VEVENT
DTSTAMP:20260421T095543Z
UID:8-875600@glendalewvumc.org
DTSTART:20261011T133000Z
DTEND:20261011T143000Z
CLASS:PUBLIC
CREATED:20260420T210650
DESCRIPTION:
LAST-MODIFIED:20260420T210650
LOCATION:Glen Dale UMC
SUMMARY:Sunday School
URL;VALUE=URI:https://www.glendalewvumc.org/events/sunday-school/2026-10-11
END:VEVENT
END:VCALENDAR
