BEGIN:VCALENDAR
VERSION:2.0
PRODID:icalendar-ruby
CALSCALE:GREGORIAN
METHOD:PUBLISH
BEGIN:VEVENT
DTSTAMP:20260421T132657Z
UID:8-876468@glendalewvumc.org
DTSTART:20261025T133000Z
DTEND:20261025T143000Z
CLASS:PUBLIC
CREATED:20260421T081347
DESCRIPTION:
LAST-MODIFIED:20260421T081347
LOCATION:Glen Dale UMC
SUMMARY:Sunday School
URL;VALUE=URI:https://www.glendalewvumc.org/events/sunday-school/2026-10-25
END:VEVENT
END:VCALENDAR
