BEGIN:VCALENDAR
VERSION:2.0
PRODID:icalendar-ruby
CALSCALE:GREGORIAN
METHOD:PUBLISH
BEGIN:VEVENT
DTSTAMP:20260421T152708Z
UID:8-877335@glendalewvumc.org
DTSTART:20261101T143000Z
DTEND:20261101T153000Z
CLASS:PUBLIC
CREATED:20260421T104910
DESCRIPTION:
LAST-MODIFIED:20260421T104910
LOCATION:Glen Dale UMC
SUMMARY:Sunday School
URL;VALUE=URI:https://www.glendalewvumc.org/events/sunday-school/2026-11-01
END:VEVENT
END:VCALENDAR
