BEGIN:VCALENDAR
VERSION:2.0
PRODID:icalendar-ruby
CALSCALE:GREGORIAN
METHOD:PUBLISH
BEGIN:VEVENT
DTSTAMP:20260420T060548Z
UID:5-869432@glendalewvumc.org
DTSTART:20260816T143000Z
DTEND:20260816T153000Z
CLASS:PUBLIC
CREATED:20260419T235456
DESCRIPTION:Sunday Worship
LAST-MODIFIED:20260419T235456
LOCATION:
SUMMARY:Sunday Worship
URL;VALUE=URI:https://www.glendalewvumc.org/events/sunday-worship/2026-08-1
 6
END:VEVENT
END:VCALENDAR
