BEGIN:VCALENDAR
VERSION:2.0
PRODID:icalendar-ruby
CALSCALE:GREGORIAN
METHOD:PUBLISH
BEGIN:VEVENT
DTSTAMP:20260420T132621Z
UID:5-871168@glendalewvumc.org
DTSTART:20260913T143000Z
DTEND:20260913T153000Z
CLASS:PUBLIC
CREATED:20260420T081234
DESCRIPTION:Sunday Worship
LAST-MODIFIED:20260420T081234
LOCATION:
SUMMARY:Sunday Worship
URL;VALUE=URI:https://www.glendalewvumc.org/events/sunday-worship/2026-09-1
 3
END:VEVENT
END:VCALENDAR
