BEGIN:VCALENDAR
VERSION:2.0
PRODID:icalendar-ruby
CALSCALE:GREGORIAN
METHOD:PUBLISH
BEGIN:VEVENT
DTSTAMP:20260420T181848Z
UID:5-872904@glendalewvumc.org
DTSTART:20261004T143000Z
DTEND:20261004T153000Z
CLASS:PUBLIC
CREATED:20260420T132121
DESCRIPTION:Sunday Worship
LAST-MODIFIED:20260420T132121
LOCATION:
SUMMARY:Sunday Worship
URL;VALUE=URI:https://www.glendalewvumc.org/events/sunday-worship/2026-10-0
 4
END:VEVENT
END:VCALENDAR
