BEGIN:VCALENDAR
VERSION:2.0
PRODID:icalendar-ruby
CALSCALE:GREGORIAN
METHOD:PUBLISH
BEGIN:VEVENT
DTSTAMP:20260420T195718Z
UID:5-873771@glendalewvumc.org
DTSTART:20261011T143000Z
DTEND:20261011T153000Z
CLASS:PUBLIC
CREATED:20260420T155627
DESCRIPTION:Sunday Worship
LAST-MODIFIED:20260420T155627
LOCATION:
SUMMARY:Sunday Worship
URL;VALUE=URI:https://www.glendalewvumc.org/events/sunday-worship/2026-10-1
 1
END:VEVENT
END:VCALENDAR
