BEGIN:VCALENDAR
VERSION:2.0
PRODID:icalendar-ruby
CALSCALE:GREGORIAN
METHOD:PUBLISH
BEGIN:VEVENT
DTSTAMP:20260420T232211Z
UID:5-874639@glendalewvumc.org
DTSTART:20261025T143000Z
DTEND:20261025T153000Z
CLASS:PUBLIC
CREATED:20260420T183210
DESCRIPTION:Sunday Worship
LAST-MODIFIED:20260420T183210
LOCATION:
SUMMARY:Sunday Worship
URL;VALUE=URI:https://www.glendalewvumc.org/events/sunday-worship/2026-10-2
 5
END:VEVENT
END:VCALENDAR
