BEGIN:VCALENDAR
VERSION:2.0
PRODID:icalendar-ruby
CALSCALE:GREGORIAN
METHOD:PUBLISH
BEGIN:VEVENT
DTSTAMP:20260425T135454Z
UID:87-776229@glendalewvumc.org
DTSTART:20260426T144500Z
DTEND:20260426T151500Z
CLASS:PUBLIC
CREATED:20260401T161054
DESCRIPTION:
LAST-MODIFIED:20260401T161054
LOCATION:
SUMMARY:Volunteer Appreciation
URL;VALUE=URI:https://www.glendalewvumc.org/events/volunteer-appreciation/2
 026-04-26
ATTACH;FILENAME=geralt-volunteer-2729696_1920.png;FMTTYPE=image/png:https:/
 /dq5pwpg1q8ru0.cloudfront.net/2026/04/01/20/10/54/866917ac-c788-460a-a4e2-
 a170c1695a36/geralt-volunteer-2729696_1920.png
END:VEVENT
END:VCALENDAR
